BEGIN:VCALENDAR
VERSION:2.0
PRODID:-//Museums- und Geschichtsverein - ECPv6.15.20//NONSGML v1.0//EN
CALSCALE:GREGORIAN
METHOD:PUBLISH
X-WR-CALNAME:Museums- und Geschichtsverein
X-ORIGINAL-URL:https://geschichtediez.de
X-WR-CALDESC:Veranstaltungen für Museums- und Geschichtsverein
REFRESH-INTERVAL;VALUE=DURATION:PT1H
X-Robots-Tag:noindex
X-PUBLISHED-TTL:PT1H
BEGIN:VTIMEZONE
TZID:Europe/Berlin
BEGIN:DAYLIGHT
TZOFFSETFROM:+0100
TZOFFSETTO:+0200
TZNAME:CEST
DTSTART:20250330T010000
END:DAYLIGHT
BEGIN:STANDARD
TZOFFSETFROM:+0200
TZOFFSETTO:+0100
TZNAME:CET
DTSTART:20251026T010000
END:STANDARD
BEGIN:DAYLIGHT
TZOFFSETFROM:+0100
TZOFFSETTO:+0200
TZNAME:CEST
DTSTART:20260329T010000
END:DAYLIGHT
BEGIN:STANDARD
TZOFFSETFROM:+0200
TZOFFSETTO:+0100
TZNAME:CET
DTSTART:20261025T010000
END:STANDARD
BEGIN:DAYLIGHT
TZOFFSETFROM:+0100
TZOFFSETTO:+0200
TZNAME:CEST
DTSTART:20270328T010000
END:DAYLIGHT
BEGIN:STANDARD
TZOFFSETFROM:+0200
TZOFFSETTO:+0100
TZNAME:CET
DTSTART:20271031T010000
END:STANDARD
END:VTIMEZONE
BEGIN:VEVENT
DTSTART;TZID=Europe/Berlin:20260425T093000
DTEND;TZID=Europe/Berlin:20260425T123000
DTSTAMP:20260420T102020
CREATED:20260401T160302Z
LAST-MODIFIED:20260401T160302Z
UID:1999-1777109400-1777120200@geschichtediez.de
SUMMARY:Arbeitseinsatz im Ruhepark Robert Heck
DESCRIPTION:Alle Interessierten sind herzlich willkommen! Gebraucht werden Gartenhandschuhe\, Unkrautstecher und Gartenschere.
URL:https://geschichtediez.de/veranstaltung/arbeitseinsatz-im-ruhepark-robert-heck
LOCATION:Ruhepark Robert Heck (Alter Friedhof)\, Eingang gegenüber Stadtwerke Oraniensteiner Straße 5\, Diez\, 65582\, Deutschland
CATEGORIES:Arbeitseinsatz
END:VEVENT
BEGIN:VEVENT
DTSTART;TZID=Europe/Berlin:20260517T140000
DTEND;TZID=Europe/Berlin:20260517T180000
DTSTAMP:20260420T102020
CREATED:20260203T155720Z
LAST-MODIFIED:20260418T135749Z
UID:1964-1779026400-1779040800@geschichtediez.de
SUMMARY:Internationaler Museumstag
DESCRIPTION:Sonntag\, 17. Mai: Internationaler Museumstag von 14.00 bis 18.00 Uhr \nIn diesem Jahr geht es um das Thema „Hochdruck“  in vielen Varianten von ganz einfach bis aufwendig: Kartoffeldruck\, Siegel und Siegellack\, Schreibmaschinen\, Holzschnitt und Linolschnitt\, mechanische Schreibmaschinen\, Buchdruck\, Klischee- und Rasterdruck und einiges mehr.  \nWir freuen uns auf Ihr Interesse und Ihre Teilnahme. Weitere Einzelheiten folgen auf www.museumdiez.de.
URL:https://geschichtediez.de/veranstaltung/internationaler-museumstag-2
LOCATION:Museum im Grafenschloss\, Schlossberg 8\, Diez\, 65582
CATEGORIES:Internationaler Museumstag
END:VEVENT
BEGIN:VEVENT
DTSTART;TZID=Europe/Berlin:20260529T190000
DTEND;TZID=Europe/Berlin:20260529T210000
DTSTAMP:20260420T102020
CREATED:20260203T155857Z
LAST-MODIFIED:20260418T135701Z
UID:1966-1780081200-1780088400@geschichtediez.de
SUMMARY:Infoabend des Arbeitskreises Stolpersteine
DESCRIPTION:Freitag\, 29. Mai 2026\, 19.00 Uhr: Informationsabend des Arbeitskreises Stolpersteine im Museum im Grafenschloss \nWie erforschen wir die Lebenswege von Naziopfern? \nDie ersten Hinweise auf Naziopfer sind oft nur vage: ein Name\, die Erinnerung an alte Erzählungen\, ein unvollständiges Dokument… Aus solchen Anfängen kann sich eine akribische\, oft viele Monate dauernde Forschungsarbeit entwickeln. Sie dient dem Ziel\, in jedem einzelnen Fall einer Verfolgungsgeschichte zu klären\, ob die Verlegung von Stolpersteinen zum Andenken an ein jäh beendetes Leben\, an eine Vertreibung oder Misshandlung angebracht ist. \nAn dem Informationsabend gibt der seit 2019 bestehende Arbeitskreis Stolpersteine Diez Einblicke in seine bisherige und aktuelle Arbeit. Wie verläuft der Forschungsgang?  Wie können wir die bisherige und die zukünftige Arbeit finanzieren und organisieren? Der Eintritt ist frei\, um Spenden zugunsten der Stolpersteinforschung wird gebeten. 
URL:https://geschichtediez.de/veranstaltung/infoabend-des-arbeitskreises-stolpersteine
LOCATION:Museum im Grafenschloss\, Schlossberg 8\, Diez\, 65582
CATEGORIES:Veranstaltung
END:VEVENT
BEGIN:VEVENT
DTSTART;TZID=Europe/Berlin:20260531T140000
DTEND;TZID=Europe/Berlin:20260531T153000
DTSTAMP:20260420T102020
CREATED:20260204T154526Z
LAST-MODIFIED:20260204T154526Z
UID:1979-1780236000-1780241400@geschichtediez.de
SUMMARY:Rasen\, Wiesen\, Kräuter. Was blüht im Ruhepark?
DESCRIPTION:Monika Schneider\, Fachingen schärft für uns den Blick für die grünenden und blühenden „Kleinigkeiten“ an diesem besonderen Ort.
URL:https://geschichtediez.de/veranstaltung/rasen-wiesen-kraeuter-was-blueht-im-ruhepark
LOCATION:Ruhepark Robert Heck (Alter Friedhof)\, Eingang gegenüber Stadtwerke Oraniensteiner Straße 5\, Diez\, 65582\, Deutschland
CATEGORIES:Führung
END:VEVENT
BEGIN:VEVENT
DTSTART;TZID=Europe/Berlin:20260612T180000
DTEND;TZID=Europe/Berlin:20260612T203000
DTSTAMP:20260420T102020
CREATED:20260203T160232Z
LAST-MODIFIED:20260203T160232Z
UID:1970-1781287200-1781296200@geschichtediez.de
SUMMARY:Jahreshauptversammlung und Museumswandel
DESCRIPTION:Anlässlich des 300. Todestags Henriette Amalies präsentieren wir die Neuerungen im Museum Nassau-Oranien im Schloss Oranienstein. (Anmeldung im Museum im Grafenschloss www.museumdiez.de)
URL:https://geschichtediez.de/veranstaltung/jahreshauptversammlung-und-museumswandel
LOCATION:Schloss Oranienstein\, Diez\, 65582
CATEGORIES:Jahreshauptversammlung
END:VEVENT
END:VCALENDAR